BEGIN:VCALENDAR
VERSION:2.0
PRODID:-//Confcommercio La Spezia - ECPv6.13.1//NONSGML v1.0//EN
CALSCALE:GREGORIAN
METHOD:PUBLISH
X-ORIGINAL-URL:https://www.confcommerciolaspezia.it
X-WR-CALDESC:Eventi per Confcommercio La Spezia
REFRESH-INTERVAL;VALUE=DURATION:PT1H
X-Robots-Tag:noindex
X-PUBLISHED-TTL:PT1H
BEGIN:VTIMEZONE
TZID:Europe/Rome
BEGIN:DAYLIGHT
TZOFFSETFROM:+0100
TZOFFSETTO:+0200
TZNAME:CEST
DTSTART:20250330T010000
END:DAYLIGHT
BEGIN:STANDARD
TZOFFSETFROM:+0200
TZOFFSETTO:+0100
TZNAME:CET
DTSTART:20251026T010000
END:STANDARD
BEGIN:DAYLIGHT
TZOFFSETFROM:+0100
TZOFFSETTO:+0200
TZNAME:CEST
DTSTART:20260329T010000
END:DAYLIGHT
BEGIN:STANDARD
TZOFFSETFROM:+0200
TZOFFSETTO:+0100
TZNAME:CET
DTSTART:20261025T010000
END:STANDARD
END:VTIMEZONE
BEGIN:VEVENT
DTSTART;TZID=Europe/Rome:20260326T130000
DTEND;TZID=Europe/Rome:20260326T190000
DTSTAMP:20260419T152553
CREATED:20260313T084018Z
LAST-MODIFIED:20260313T084018Z
UID:21243-1774530000-1774551600@www.confcommerciolaspezia.it
SUMMARY:Corso aggiornamento carrellisti
DESCRIPTION:Sono aperte le iscrizioni per il corso dedicato a formare carrellisti e il relativo aggiornamento\, indirizzato ai lavoratori addetti all’utilizzo del carrello elevatore. Il corso è tenuto da docenti esperti in materia di salute e sicurezza sul lavoro e nell’utilizzo del carrello elevatore che daranno ampio spazio all’esercitazione pratica e alle specifiche esigenze delle realtà organizzative dei partecipanti al corso. \nL’aggiornamento del corso carrellisti si svolgerà presso la sede di Seprin a Ceparana giovedì 26 marzo 2026 dalle ore 13\,00 alle ore 19\,00 \nPer ulteriori informazioni è possibile contattare la responsabile Laura Ghini al numero 0187 5985133 o alla Mail: ghini@confcommerciolaspezia.it \n 
URL:https://www.confcommerciolaspezia.it/eventi/corso-aggiornamento-carrellisti-2/
LOCATION:Seprin località lagoscuro Ceparana
CATEGORIES:Evento
ATTACH;FMTTYPE=image/png:https://www.confcommerciolaspezia.it/wp-content/uploads/2026/03/GRAFICA-EVENTI-PER-SITO_carrellisti-aggiornamento.png
END:VEVENT
BEGIN:VEVENT
DTSTART;TZID=Europe/Rome:20260302T150000
DTEND;TZID=Europe/Rome:20260311T183000
DTSTAMP:20260419T152553
CREATED:20260105T112921Z
LAST-MODIFIED:20260105T112921Z
UID:20165-1772463600-1773253800@www.confcommerciolaspezia.it
SUMMARY:Corso RSPP
DESCRIPTION:Sicurezza sul lavoro. Sono aperte le iscrizioni per il corso obbligatorio\, organizzato da Confcommercio Imprese per l’Italia La Spezia\, per la formazione dell’RSPP. Il corso\, rivolto ai datori di lavoro\, permetterà di apprendere le conoscenze di base necessarie per svolgere con consapevolezza l’incarico di Responsabile del Servizio di Prevenzione e Protezione. \nLe lezioni saranno suddivise in cinque moduli per un totale di sedici ore. Al termine del corso sarà rilasciato un attestato di frequenza. \nDi seguito il calendario delle lezioni: \n  \nLunedì         02/03/25      ore 15.00 – 18.00 \nMartedì        03/03/25      ore 15.00 – 18.00 \nGiovedì    05/03/25         ore 15.00 – 18.00 \nMartedì        10/03/25      ore 15.00 – 18.30 \nMercoledì    11/03/25      ore 15.00 – 18.30 \n  \nPer ulteriori informazioni è possibile contattare la responsabile Laura Ghini (Tel. 0187 5985133 Mail: ghini@confcommerciolaspezia.it).
URL:https://www.confcommerciolaspezia.it/eventi/corso-rspp/
LOCATION:sede di Confcommercio La Spezia\, via Fontevivo 19F\, La Spezia\, SP\, 19125\, Italy
CATEGORIES:Evento
ATTACH;FMTTYPE=image/png:https://www.confcommerciolaspezia.it/wp-content/uploads/2026/01/GRAFICA-EVENTI-PER-SITO_corso-rspp.png
END:VEVENT
BEGIN:VEVENT
DTSTART;TZID=Europe/Rome:20260212T143000
DTEND;TZID=Europe/Rome:20260212T163000
DTSTAMP:20260419T152553
CREATED:20260105T102315Z
LAST-MODIFIED:20260105T103743Z
UID:20138-1770906600-1770913800@www.confcommerciolaspezia.it
SUMMARY:Corso aggiornamento antincendio livello 1
DESCRIPTION:Confcommercio Imprese per l’Italia La Spezia apre le iscrizioni al corso aggiornamento antincendio livello 1 (ex rischio basso). \nIl corso\, destinato ai lavoratori designati alla prevenzione di incendi\, lotta antincendio e gestione dell’emergenza nelle attività a rischio di incendio basso\, si svolgerà secondo il seguente calendario: \n\nAggiornamento antincendio livello 1: giovedì 12 febbraio 2026 dalle ore 14.30 alle ore 16.30\, nella sede di Seprin Srl\, in località Lagoscuro a Ceparana\n\nGli interessati possono contattare la responsabile Laura Ghini\, inviando una mail a: ghini@confcommerciolaspezia.it oppure telefonando al numero 0187 5985133 \n 
URL:https://www.confcommerciolaspezia.it/eventi/corso-aggiornamento-antincendio-livello-1/
LOCATION:Seprin località lagoscuro Ceparana
CATEGORIES:Evento
ATTACH;FMTTYPE=image/png:https://www.confcommerciolaspezia.it/wp-content/uploads/2026/01/GRAFICA-EVENTI-PER-SITO_antincendio-livello-1-aggiornamento.png
END:VEVENT
BEGIN:VEVENT
DTSTART;TZID=Europe/Rome:20251114T140000
DTEND;TZID=Europe/Rome:20251128T180000
DTSTAMP:20260419T152553
CREATED:20251023T082548Z
LAST-MODIFIED:20251023T082636Z
UID:18173-1763128800-1764352800@www.confcommerciolaspezia.it
SUMMARY:Corso di Primo Soccorso
DESCRIPTION:Proseguono le attività dedicate alla prevenzione in tema di sicurezza nei luoghi di lavoro. L’offerta di Confcommercio è rivolta\, come sempre\, sia agli imprenditori che ai lavoratori. \nSono aperte le iscrizioni per partecipare al corso di Primo Soccorso. Le lezioni si svolgeranno nella sede di Confcommercio\, in via Fontevivo 19F La Spezia nelle seguenti date: \n\n\nVenerdì 14 novembre 2025 dalle ore 14.00 alle ore 18.00 \n\n\nLunedì 24 novembre 2025 dalle ore 8.30 alle ore 12.30 \n\n\nVenerdì 28 novembre 2025 dalle ore 14.00 alle ore 18.00 \n\n\nChi fosse interessato all’iscrizione può contattare Laura Ghini al numero 0187 5985133 oppure mandare una mail all’indirizzo: ghini@confcommerciolaspezia.it
URL:https://www.confcommerciolaspezia.it/eventi/corso-di-primo-soccorso-4/
LOCATION:sede di Confcommercio La Spezia\, via Fontevivo 19F\, La Spezia\, SP\, 19125\, Italy
CATEGORIES:Evento
ATTACH;FMTTYPE=image/png:https://www.confcommerciolaspezia.it/wp-content/uploads/2025/10/GRAFICA-EVENTI-PER-SITO_corso-primo-soccorso.png
END:VEVENT
BEGIN:VEVENT
DTSTART;TZID=Europe/Rome:20251015T143000
DTEND;TZID=Europe/Rome:20251015T163000
DTSTAMP:20260419T152553
CREATED:20251009T090624Z
LAST-MODIFIED:20251009T090624Z
UID:17666-1760538600-1760545800@www.confcommerciolaspezia.it
SUMMARY:Scrittura assistita: ottimizzare testi e strategie di contenuto con l'AI. Il webinar gratuito di Edi Confcommercio
DESCRIPTION:Edi Confcommercio\, il polo di innovazione digitale per le imprese\, organizza il webinar gratuito “Scrittura assistita: ottimizzare testi e strategie di contenuto con l’Intelligenza Artificiale”\, mercoledì 15 ottobre 2025 dalle 14.30 alle 16.00. \nL’evento\, realizzato nell’ambito del programma formativo EDI Training e del Progetto Neural\, vedrà l’intervento di Francesca Busi\, Digital Strategist e Copywriter. \nIl webinar esplorerà come l’Intelligenza Artificiale possa diventare un alleato strategico per le micro\, piccole e medie imprese nella produzione di testi di qualità\, nell’ottimizzazione degli articoli e nella gestione efficiente delle revisioni\, mantenendo sempre il controllo creativo. \nIn particolare\, verranno approfonditi i seguenti temi: \n\n\nScrittura e ottimizzazione: come l’AI può aiutare a creare contenuti SEO-friendly e coinvolgenti. \n\n\nGestione della produzione dei contenuti: accelerare le fasi di produzione\, dalla creazione alla pubblicazione. \n\n\nRevisioni intelligenti: individuare errori e migliorare fluidità e leggibilità del testo più velocemente con l’AI. \n\n\nStrategia di contenuto: integrare l’AI nella pianificazione e gestione editoriale \n\n\nIl webinar è gratuito ma è necessaria l’iscrizione al link: https://spin.ediconfcommercio.it/news/scrittura-assistita-ottimizzare-testi-e-strategie-di-contenuto-con-lintelligenza-artificiale/ \n\nPer qualsiasi informazione è possibile contattare il reparto Edi Confcommercio La Spezia alla mail spinlaspezia@confcommerciolaspezia.it oppure ai numeri 0187 5985146 – 0187 5985214
URL:https://www.confcommerciolaspezia.it/eventi/scrittura-assistita-ottimizzare-testi-e-strategie-di-contenuto-con-lai-il-webinar-gratuito-di-edi-confcommercio/
LOCATION:SP
CATEGORIES:Evento
ATTACH;FMTTYPE=image/png:https://www.confcommerciolaspezia.it/wp-content/uploads/2025/10/GRAFICA-EVENTI-PER-SITO_rls-1.png
END:VEVENT
BEGIN:VEVENT
DTSTART;TZID=Europe/Rome:20250925T143000
DTEND;TZID=Europe/Rome:20250925T170000
DTSTAMP:20260419T152553
CREATED:20250807T133420Z
LAST-MODIFIED:20250807T133420Z
UID:16237-1758810600-1758819600@www.confcommerciolaspezia.it
SUMMARY:NotebookLM: Come usare l'intelligenza artificiale di Google per lavorare meglio
DESCRIPTION:Sai che oggi puoi trasformare in pochi secondi una raccolta di documenti\, link e testi in uno strumento intelligente che ti aiuta a lavorare meglio? \nNotebookLM\, il nuovo strumento di intelligenza artificiale generativa sviluppato da Google\, sta rivoluzionando il modo in cui professionisti\, formatori e consulenti gestiscono informazioni\, analizzano file e preparano contenuti. Ma come funziona davvero? E quali vantaggi offre rispetto ad altri strumenti come ChatGPT? \nScoprilo al settimo appuntamento del ciclo formativo EDI TRAINING 2025\, in collaborazione con Confcommercio Professioni e il progetto Neural\, per imparare a integrare in modo concreto l’AI nei flussi di lavoro quotidiani. \n📅 25 Settembre \n🕒 14.30 \nIscriviti: https://spin.ediconfcommercio.it/news/notebooklm-come-usare-lintelligenza-artificiale-di-google-per-lavorare-meglio/ \nParleremo di: \n📄 Analisi smart dei tuoi file: scopri come caricare PDF\, testi e link per ottenere sintesi\, insight e supporto documentale automatico. \n⚙️ AI al servizio del lavoro: integra NotebookLM nei flussi operativi della tua impresa per risparmiare tempo e migliorare l’efficienza. \n🧠 Casi d’uso pratici: impara a generare contenuti\, preventivi\, report\, materiali formativi e analisi su misura per i tuoi clienti. \n🚀 Apprendimento e consulenza potenziati: trasforma l’intelligenza artificiale in un alleato quotidiano per aggiornarti\, insegnare o supportare decisioni strategiche. \nTi aspettiamo. 
URL:https://www.confcommerciolaspezia.it/eventi/notebooklm-come-usare-lintelligenza-artificiale-di-google-per-lavorare-meglio/
LOCATION:SP
CATEGORIES:Corso di Formazione,Evento
ATTACH;FMTTYPE=image/jpeg:https://www.confcommerciolaspezia.it/wp-content/uploads/2025/08/BANNER-DEM_SITO.jpg
END:VEVENT
BEGIN:VEVENT
DTSTART;TZID=Europe/Rome:20250626T103000
DTEND;TZID=Europe/Rome:20250626T120000
DTSTAMP:20260419T152553
CREATED:20250624T082823Z
LAST-MODIFIED:20250714T091937Z
UID:14810-1750933800-1750939200@www.confcommerciolaspezia.it
SUMMARY:Incontro con le imprese: nuove norme sulla canapa
DESCRIPTION:Confcommercio La Spezia promuove un incontro dedicato all’approfondimento delle novità normative introdotte in materia di canapa dall’articolo 18 del recente Decreto Sicurezza. \nL’appuntamento è in programma per giovedì 26 giugno alle ore 10:30 e si svolgerà nella sala Barilli della sede Confcommercio La Spezia (via Fontevivo 19F). \nL’incontro sarà un’importante occasione di confronto per chiarire dubbi\, comprendere l’ambito di applicazione della normativa e fornire indicazioni utili agli operatori del settore e a tutti i cittadini interessati. \nSaranno presenti rappresentanti dei Carabinieri Forestali\, che offriranno un contributo tecnico e normativo per comprendere meglio il quadro regolatorio attuale e gli obblighi previsti dalla legge. \nL’evento\, gratuito\, è rivolto alle imprese interessate.
URL:https://www.confcommerciolaspezia.it/eventi/incontro-con-le-imprese-nuove-norme-sulla-canapa/
LOCATION:sede di Confcommercio La Spezia\, via Fontevivo 19F\, La Spezia\, SP\, 19125\, Italy
CATEGORIES:Evento
ATTACH;FMTTYPE=image/png:https://www.confcommerciolaspezia.it/wp-content/uploads/2025/06/modello-NUOVO-SITO-per-news_fisco-semplice-2.png
END:VEVENT
END:VCALENDAR